BEGIN:VCALENDAR
VERSION:2.0
PRODID:-//Plone.org//NONSGML plone.app.event//EN
X-WR-TIMEZONE:Europe/Brussels
BEGIN:VEVENT
SUMMARY:Family Day & Fête de l'Iris - samedi 9 mai
DTSTART;TZID=Europe/Brussels;VALUE=DATE-TIME:20260509T120000
DTEND;TZID=Europe/Brussels;VALUE=DATE-TIME:20260509T180000
DTSTAMP;VALUE=DATE-TIME:20260424T130525Z
UID:d518a2e407f140389069f08992bf13f1@acwb.plone.brussels
CONTACT:Service de la Vie économique\, 02 674 74 26\, commerce@wb1170.bru
 ssels
CREATED;VALUE=DATE-TIME:20230320T105939Z
LAST-MODIFIED;VALUE=DATE-TIME:20260423T135406Z
LOCATION:quartier Keym
URL:https://watermael-boitsfort.be/fr/agenda/family-day-2026
END:VEVENT
BEGIN:VTIMEZONE
TZID:Europe/Brussels
X-LIC-LOCATION:Europe/Brussels
BEGIN:DAYLIGHT
DTSTART;VALUE=DATE-TIME:20260329T030000
TZNAME:CEST
TZOFFSETFROM:+0100
TZOFFSETTO:+0200
END:DAYLIGHT
END:VTIMEZONE
END:VCALENDAR
