BEGIN:VCALENDAR
VERSION:2.0
PRODID:-//Plone.org//NONSGML plone.app.event//EN
X-WR-TIMEZONE:Europe/Brussels
BEGIN:VEVENT
SUMMARY:Sentiers Tartare et découverte du patrimoine - samedi 9 mai
DTSTART;TZID=Europe/Brussels;VALUE=DATE-TIME:20260509T120000
DTEND;TZID=Europe/Brussels;VALUE=DATE-TIME:20260509T180000
DTSTAMP;VALUE=DATE-TIME:20260424T123917Z
UID:9db2433248ae42709159e9f13a4c22cc@acwb.plone.brussels
CONTACT:Service Culture\, 02.674.75.07\, culture@wb1170.brussels
CREATED;VALUE=DATE-TIME:20190729T155150Z
LAST-MODIFIED;VALUE=DATE-TIME:20260423T124831Z
URL:https://watermael-boitsfort.be/fr/agenda/sentiers-tartare-2026
END:VEVENT
BEGIN:VTIMEZONE
TZID:Europe/Brussels
X-LIC-LOCATION:Europe/Brussels
BEGIN:DAYLIGHT
DTSTART;VALUE=DATE-TIME:20260329T030000
TZNAME:CEST
TZOFFSETFROM:+0100
TZOFFSETTO:+0200
END:DAYLIGHT
END:VTIMEZONE
END:VCALENDAR
